BEGIN:VCALENDAR
VERSION:2.0
PRODID:-//Dr. Sam Berne - Holistic Eye Care - ECPv6.15.20//NONSGML v1.0//EN
CALSCALE:GREGORIAN
METHOD:PUBLISH
X-WR-CALNAME:Dr. Sam Berne - Holistic Eye Care
X-ORIGINAL-URL:https://www.drsamberne.com
X-WR-CALDESC:Events for Dr. Sam Berne - Holistic Eye Care
REFRESH-INTERVAL;VALUE=DURATION:PT1H
X-Robots-Tag:noindex
X-PUBLISHED-TTL:PT1H
BEGIN:VTIMEZONE
TZID:America/Mexico_City
BEGIN:STANDARD
TZOFFSETFROM:-0600
TZOFFSETTO:-0600
TZNAME:CST
DTSTART:20250101T000000
END:STANDARD
END:VTIMEZONE
BEGIN:VEVENT
DTSTART;TZID=America/Mexico_City:20260318T170000
DTEND;TZID=America/Mexico_City:20260429T183000
DTSTAMP:20260422T161243
CREATED:20251227T013944Z
LAST-MODIFIED:20251227T015253Z
UID:8874-1773853200-1777487400@www.drsamberne.com
SUMMARY:Online: The Perceptual Field™
DESCRIPTION:  \n\nOnline Course: The Perceptual Field™\nSeeing Clearly Under Pressure\nVision\, Pattern Recognition & the Nervous System \nA 4-Session Small-Group Immersion with Dr. Sam Berne \nStarts Wednesday\, March 18\n$1\,500 | Limited Enrollment \n\nOverview\nMost people believe clarity improves under pressure. \nIt doesn’t. \nWhen the nervous system is stressed\, perception narrows\, context collapses\, and even intelligent\, well-intentioned people misread situations—quietly\, confidently\, and often with serious consequences. \nThe Perceptual Field™ is a focused\, small-group immersion designed to train how you see—not just what you think. \nThis is not therapy.\nThis is not coaching.\nThis is not problem-solving. \nThis is perceptual literacy. \n\nWhat This Immersion Is About\nYour vision—literal and perceptual—is not separate from your nervous system. \nWhen regulation shifts: \n\nVision changes\nInterpretation changes\nDecision-making changes\nMeaning changes\n\nIn this cohort\, we explore vision as a whole-body\, nervous-system-driven process and learn how to recognize patterns before they become problems. \nYou will learn to: \n\nDetect perceptual narrowing in yourself and others\nRecognize stress-driven misinterpretation in real time\nRestore contextual seeing under pressure\nUnderstand vision as an output of regulation\, not willpower\n\n\nStructure & Format\n\n4 live sessions\n90 minutes each\nEvery other week\nSmall\, curated group (8–12 participants)\n\nSession Dates (Wednesdays): \n\nMarch 18\nApril 1\nApril 15\nApril 29\n\nLive attendance is strongly encouraged. Replays may be available for a limited time. \n\nWhat We Will Explore\nEach session builds progressively and experientially: \nSession 1 — Perceptual Narrowing\nHow stress alters vision\, attention\, and meaning-making \nSession 2 — Pattern Recognition\nSeeing relational\, behavioral\, and internal patterns without story or projection \nSession 3 — Regulation & Context\nRestoring peripheral awareness\, flexibility\, and coherence \nSession 4 — Seeing Clearly Under Pressure\nApplying perceptual skills to real-world decision-making and leadership moments \n\nWho This Is For\nThis immersion is designed for: \n\nThoughtful adults who value self-responsibility\nLeaders\, clinicians\, creatives\, and professionals\nPeople interested in perception\, nervous system regulation\, and vision beyond mechanics\n\nYou should already be emotionally regulated and capable of self-reflection. \nThis is not appropriate if you are seeking: \n\nTherapy or emotional processing\nTrauma work\nFix-it solutions\nOngoing support or dependency\n\n\nInvestment\n$1\,500 total\nIncludes all 4 sessions. \nThis pricing reflects: \n\nA contained\, premium experience\nSmall group access\nDecades of clinical and perceptual expertise\n\nSpace is intentionally limited. \n\nRelationship to 1:1 Intensives & Retreats\nThis cohort stands on its own. \nSome participants may feel called to: \n\nSchedule a 3-Hour Perceptual Intensive\nJoin the Beyond the Eyes Retreat (September 10–13\, 2026 | San Luis Obispo\, CA)\n\nThere is no pressure or expectation to continue beyond this container. \n\nImportant Boundaries (Please Read)\n\nThis is educational and experiential\, not medical or therapeutic\nDr. Berne does not provide individual treatment within the group\nConfidentiality and self-regulation are required\n\nBy enrolling\, you agree to participate responsibly and independently. \n\nEnrollment\nIf this resonates\, you may apply or enroll directly (your choice depending on how exclusive you want to make it). \nEnrollment closes once the group is full. \nIf you’ve sensed that how you see matters more than what you know—\nand that clarity under pressure is a trainable skill—\nthis immersion was designed for you. \n\n 
URL:https://www.drsamberne.com/workshop/the-perceptual-field/
END:VEVENT
BEGIN:VEVENT
DTSTART;TZID=America/Mexico_City:20260411T100000
DTEND;TZID=America/Mexico_City:20260509T110000
DTSTAMP:20260422T161243
CREATED:20260318T162938Z
LAST-MODIFIED:20260411T135536Z
UID:8985-1775901600-1778324400@www.drsamberne.com
SUMMARY:Beyond The Eyes: Rewiring Vision Through the Body and Brain--Online Course
DESCRIPTION:Limited spaces remain. \nWhy Your Vision Isn’t Improving (And What Actually Works) \nYour vision is not just in your eyes. It’s in your brain\, your body\, and your nervous system. \nIn this 4-week live experience\, you’ll learn how to begin restoring clarity\, coordination\, and ease in your vision—naturally.: \nJoin the online Vision Reset Series \nDates: April 11th\, 18th\, 25th and May 9th  Zoom… \nCost $297 \nThis course is not designed to treat or be a  quick fix individual medical eye conditions.  It is for individuals who are ready to explore a deeper\, nervous-system-based approach to vision–and who may later choose to work with me at a higher level. \nThis course is for: \npeople interested in optimizing perception and performance \nindividuals curious about the brain-body-vision connection \nthose exploring a deeper level of personal development through vision. \npeople ready to invest in a deeper process \n4 Weeks/ 60 minutes per session/ Live on Zoom \nWeek 1 – The Truth About Vision\n• Why stronger glasses often fail\n• Vision is brain + body\, not just eyes\n• Introduce “split vision” concept (like your recent case)\n• Nervous system + stress patterns \n  \n⸻ \nWeek 2 – The Two Eyes & The Brain\n• Right eye vs left eye differences\n• Dominance\, suppression\, over/under focus\n• Peripheral vision breakdown\n• Intro to simple exercises \n  \n⸻ \nWeek 3 – Resetting the System\n• Somatic + movement-based vision work\n• Breathing + vagal regulation\n• Light\, color\, environment \n  \n⸻ \nWeek 4 – Integration & Next Steps\n• Why consistency matters\n• Case studies (like today’s patient)\n• Who needs deeper work \nThis program is designed as a structured educational experience\, not individualized care or one-on-one coaching.\nTo maintain clarity\, quality\, and group integrity\, please note the following:\n❌ What This Course Does NOT Include\nNo long-form personal email support\nNo individualized case analysis\nNo one-on-one coaching inside the course\nNo diagnosis\, treatment\, or medical advice\nNo review of personal eye prescriptions\, test results\, or reports\n✅ What This Course DOES Include\nA clear\, structured curriculum delivered over 4 weeks\nGuided exercises you can practice on your own\nEducation on vision\, perception\, and the nervous system\nGroup-based learning and shared experience\nOptional Q&A time for general questions (not personal case work)\n🔑 Important Distinction\nThis course is not a substitute for a Vision Intensive.\nIf you are looking for:\nPersonalized evaluation\nIndividualized protocols\nCase-specific guidance\n👉 That level of work is reserved for private Vision Intensives.\n🧠 How to Get the Most Out of This Course\nShow up live when possible\nPractice the exercises consistently\nStay curious rather than outcome-driven\nAllow the process to unfold over time\n⚖️ Responsibility\nBy enrolling\, you agree to take personal responsibility for your learning and application of the material.\nThis course is for educational purposes only.\n🌱 The Spirit of This Work\nThis is a guided experience in perception\, awareness\, and nervous system regulation.\nIt is not about “fixing” your eyes quickly—it is about learning how to work with your visual system in a new way.\n🔒 Due to the volume of participants\, individual follow-up or personal support outside of the sessions is not available. \nFor those who want a personalized\, in-depth approach\, I offer a limited number of Vision Intensives each month. \n2-3 hour private immersion\, $1200-$1650 \nApplication required for these Intensives.
URL:https://www.drsamberne.com/workshop/beyond-the-eyes-rewiring-vision-through-the-body-and-brain-online-course/
LOCATION:The Geodome\, Tesuque\, 87574\, United States
END:VEVENT
BEGIN:VEVENT
DTSTART;TZID=America/Mexico_City:20260610T173000
DTEND;TZID=America/Mexico_City:20260701T183000
DTSTAMP:20260422T161243
CREATED:20260420T180714Z
LAST-MODIFIED:20260422T144847Z
UID:9093-1781112600-1782930600@www.drsamberne.com
SUMMARY:Clear the Fog: A 4-Week Reset for Brain Fog\, Focus\, Energy & Vision
DESCRIPTION:Brain fog is often not a brain problem. It may be a nervous system overload problem. \nMy Story:  \nI spent years doing what many people do in modern life—working harder\, pushing longer\, producing more\, carrying more responsibility\, and overriding the signals of the body. \nAt one point\, I was running a full clinical practice while creating content across multiple social media platforms every day. Long hours. Constant output. Endless stimulation. From the outside\, it looked productive. Inside\, the cost was accumulating. \nWhat I came to understand—through my own experience and decades of working with others—is that many symptoms people call “brain fog\,” fatigue\, poor focus\, eye strain\, and loss of motivation are not simply mental problems. \nOften\, they are signs of overload. \nAn overloaded nervous system.\nToo much screen time.\nToo much stress.\nToo much pressure.\nToo little recovery.\nToo much living from urgency. \nWhen the system becomes overwhelmed\, clarity drops. Energy drops. Vision narrows. The body begins to compensate. \nI did not solve this by “trying harder.” \nI solved it by changing the model. \nI reduced unnecessary stress. I restructured my work. I returned to movement\, nature\, better rhythms\, breath\, perception\, and nervous system regulation. I learned again that the brain\, eyes\, body\, and environment are deeply connected. \nThe result was not just feeling better. \nIt was clearer thinking. Better energy. Greater steadiness. More presence. Better vision. Better decisions. \nThis is the foundation of the work I now teach. \nMy programs are not about quick hacks or masking symptoms. They are about helping people understand why they feel foggy\, tired\, dysregulated\, visually strained\, or mentally scattered—and giving them practical ways to restore clarity. \nIf you are dealing with brain fog\, fatigue\, stress\, eye strain\, or a sense that something is “off\,” there may be nothing wrong with you. \nYour system may simply be asking for a reset. \nThat is the journey I now help others take. \nFeeling overloaded\, exhausted\, or stressed? This course was created for you. \nYou’ll learn practical methods to enhance focus\, visual comfort\, clarity\, and energy. \nBy the end of the course\, you’ll be able to regulate your nervous system and improve body-brain coordination for greater day-to-day wellbeing.\nSecure your spot now—register for the live Zoom course with Dr. Sam Berne. Limited spaces remain. Act quickly to benefit. \n1. Weekly outcomes \nWeek 1 – Why brain fog happens \nWeek 2 – Nervous system reset \nWeek 3 – Vision / screen / sensory overload \nWeek 4 – Long-term clarity habits \n2. Session recordings will be available right after the live session with Dr. Berne \n3. Handout sent with recording link \nSpace is Limited\nClass Dates:\nWednesdays\, June 10\, 17\, 24\, July 1\n5:30 PM-6:30 PM Mountain time\nPricing $247
URL:https://www.drsamberne.com/workshop/online-clear-the-fog-a-4-week-course-for-brain-fog-focus-energy-vision/
LOCATION:The Geodome\, Tesuque\, 87574\, United States
END:VEVENT
BEGIN:VEVENT
DTSTART;TZID=America/Mexico_City:20260910T090000
DTEND;TZID=America/Mexico_City:20260913T130000
DTSTAMP:20260422T161243
CREATED:20251227T014946Z
LAST-MODIFIED:20260310T124651Z
UID:8877-1789030800-1789304400@www.drsamberne.com
SUMMARY:Beyond the Eyes Vision\, Perception & the Nervous System
DESCRIPTION:A 3.5-Day Perceptual Ecology Immersion\nSeptember 10 @ 9:00 AM – September 13 @ 1:00 PM\nAfter exploring several retreat venues along the California coast\, I realized the most powerful container for this work is the Geodome in Tesuque — where participants can experience vision and perception work directly in the landscape of the high desert.\nInvestment: $3\,200\nGroup Size: 6 participants\nBeyond the Eyes\nAn Intimate 3.5-Day Perceptual Ecology Immersion in Embodied Seeing\nThis is not a retreat.\nThis is not a workshop.\nThis is an immersion.\nBeyond the Eyes is a small-group\, in-person Perceptual Ecology Immersion exploring vision as a whole-body\, nervous-system-driven process — guided by Dr. Sam Berne\, drawing on over four decades of clinical\, somatic\, and experiential work.\nRather than treating vision as a mechanical function of the eyes\, this immersion begins from a different premise:\nVision is shaped by the nervous system\, posture\, breath\, stress patterns\, trauma history\, metabolic health\, and perception itself.\nWhen these systems are supported — and allowed to slow down — perception can reorganize.\nSometimes in subtle ways.\nSometimes in profound ones.\nThis 3.5-day immersion is an opportunity to step out of urgency\, enter a relational learning field\, and experience vision from the inside out.\nWhat Makes This Immersion Different\nThis is not about fixing symptoms.\nIt is not about certification.\nAnd it is not a quick-fix program.\nThis is an intimate experiential container limited to 6–8 participants\, allowing for depth\, presence\, and individual attention.\nThe emphasis is not on forcing change\, but on creating the conditions in which perception can reorganize naturally.\nYou’ll be guided through:\nFunctional and holistic perspectives on vision\nNervous system regulation and perceptual organization\nSomatic and sensory practices\nEye–brain–body relationships rarely addressed in conventional care\nWhat You’ll Experience\n👁 Vision as a Whole-Body Process\nHow vision reflects systemic and metabolic patterns\nWhy eye challenges often mirror stress and adaptation\nReframing “degeneration” through a functional lens\n🧠 Nervous System & Perception\nHow stress\, trauma\, and survival patterns influence vision\nPractices that support regulation and safety\nUnderstanding perception as a state\, not just a function\n🌈 Light\, Color & Sensory Input\nIntroduction to light and color as regulatory tools\nRed-light concepts and practical applications\nSensory balance and visual processing\n🌀 Somatic & Experiential Practices\nGentle eye and perceptual practices\nBody-based awareness supporting visual change\nIntegration practices you can continue at home\nCore Pillars of the Immersion\n1. Restoring the Visual Field\nPeripheral vision practices\nSoft-focus seeing\nOcular motor release\nHorizon-based orientation\n2. Nervous System & Time\nSlowing urgency\nRestoring rhythmic perception\nBreath\, posture\, and visual timing\nExiting performance mode\n3. Relational Seeing\nSensing space rather than objects\nEcological attention\nSeeing with the environment\, not at it\nDissolving the observer / observed split\n4. Integration & Meaning\nReflection without analysis\nAllowing perception to reorganize identity\nHonoring subtle change rather than forcing insight\nWho This Immersion Is For\nThis immersion is for people who:\nSense there is more to vision than they’ve been told\nAre curious\, reflective\, and open to learning\nWant depth rather than quick fixes\nValue small-group\, relational learning\nNo prior experience is required.\nOptional Pre-Immersion Consultation\nParticipants may choose to add a 75–90 minute private Zoom consultation with Dr. Berne prior to arrival.\nPre-Immersion Consultation Fee: $750\nThis optional session allows for:\nReview of your vision history and goals\nPersonal context before arriving in person\nA more tailored immersion experience\nScheduled separately.\nDocumentary Element 🎥\nThis immersion will be quietly and respectfully documented as part of Dr. Berne’s ongoing documentary work exploring vision\, perception\, and the nervous system.\nFilming is observational only.\nParticipation in the immersion does not require participation in the film.\nConsent is always optional\, ongoing\, and respected.\nThe camera’s role is to witness atmosphere — not private process.\nInvestment\nImmersion Tuition: $3\,200\nThis reflects:\nA 3.5-day\, in-person Perceptual Ecology immersion\nA small group limited to 6–8 participants\nOver four decades of Dr. Berne’s clinical and experiential work\nAn intimate container designed for depth and integration\nThis immersion is intentionally limited in size to preserve coherence\, safety\, and individual attention.\nPayment & Registration\nA $1\,200 non-refundable deposit reserves your space\nRemaining balance due 60 days prior\nPayment plans may be available upon request\nCredit card payments incur a 3% processing fee\nAlternative payment methods provided at registration\nOnce the group is full\, registration closes.\nAbout Dr. Sam Berne\nDr. Sam Berne works at the intersection of vision\, nervous system regulation\, and embodied perception.\nTrained as an optometrist and informed by decades of clinical\, somatic\, and ecological inquiry\, his work focuses on how perception is biologically organized — and how it can be restored when narrowed by trauma\, stress\, modern technologies\, or cultural conditioning.\nDrawing inspiration from phenomenology\, neuroscience\, and ecological perception\, he translates these traditions into lived physiological experience.\nRather than treating conditions\, Dr. Berne facilitates perceptual reorganization — helping individuals restore depth\, presence\, and coherence in how they meet reality.
URL:https://www.drsamberne.com/workshop/beyond-the-eyes-vision-perception-the-nervous-system-an-immersive-retreat/
LOCATION:The Geodome\, Tesuque\, 87574\, United States
END:VEVENT
END:VCALENDAR